BEGIN:VCALENDAR
VERSION:2.0
PRODID:-//Open Courses - ECPv6.15.14//NONSGML v1.0//EN
CALSCALE:GREGORIAN
METHOD:PUBLISH
X-ORIGINAL-URL:https://opencourses.ie
X-WR-CALDESC:Events for Open Courses
REFRESH-INTERVAL;VALUE=DURATION:PT1H
X-Robots-Tag:noindex
X-PUBLISHED-TTL:PT1H
BEGIN:VTIMEZONE
TZID:Europe/Dublin
BEGIN:DAYLIGHT
TZOFFSETFROM:+0000
TZOFFSETTO:+0100
TZNAME:IST
DTSTART:20230326T010000
END:DAYLIGHT
BEGIN:STANDARD
TZOFFSETFROM:+0100
TZOFFSETTO:+0000
TZNAME:GMT
DTSTART:20231029T010000
END:STANDARD
BEGIN:DAYLIGHT
TZOFFSETFROM:+0000
TZOFFSETTO:+0100
TZNAME:IST
DTSTART:20240331T010000
END:DAYLIGHT
BEGIN:STANDARD
TZOFFSETFROM:+0100
TZOFFSETTO:+0000
TZNAME:GMT
DTSTART:20241027T010000
END:STANDARD
BEGIN:DAYLIGHT
TZOFFSETFROM:+0000
TZOFFSETTO:+0100
TZNAME:IST
DTSTART:20250330T010000
END:DAYLIGHT
BEGIN:STANDARD
TZOFFSETFROM:+0100
TZOFFSETTO:+0000
TZNAME:GMT
DTSTART:20251026T010000
END:STANDARD
END:VTIMEZONE
BEGIN:VEVENT
DTSTART;TZID=Europe/Dublin:20240605T110000
DTEND;TZID=Europe/Dublin:20240718T130000
DTSTAMP:20260423T220338
CREATED:20240422T153515Z
LAST-MODIFIED:20240905T101519Z
UID:7886-1717585200-1721307600@opencourses.ie
SUMMARY:Online course: Enabling Student Volunteering (June 2024)
DESCRIPTION:The National Forum for the Enhancement of Teaching and Learning in Higher Education are delighted to announce that the fully online Open Course\, Enabling Student Volunteering\, will run from June 2024. This course has been developed in partnership with Student Volunteer Ireland\, see www.studentvolunteer.ie for more details. \nThis free 4-week course is available to all staff currently working in tertiary education in the Republic of Ireland\, subject to availability of places. Additional facilitator training is included so that you can become a facilitator of this course and run it in your own institution. A further commitment of five learner hours will be required for the facilitator add-on\, in addition to attendance at two extra webinars over 2 weeks. \nCourse Schedule\n\n\n\nEnabling Student Volunteering Badge Schedule\n\n\nDate\nWeek\nWebinar\nFacilitator\n\n\n05.06.24\nWeek 1\nWednesday  11am – 1pm\nDr Lorraine Tansey\n\n\n12.06.24\nWeek 2\nWednesday  11am – 1pm\nDr Lorraine Tansey\n\n\n19.06.24\nWeek 3\nWednesday  11am – 1pm\nDr Lorraine Tansey\n\n\n26.06.24\nWeek 4\nWednesday  11am – 1pm\nDr Lorraine Tansey\n\n\n\nBREAK\n\n\n\n\n11.07.24\nWeek 5 (Facilitator Badge)\nWednesday  11am – 1pm\nDr Lorraine Tansey\n\n\n18.07.24\nWeek 6 (Facilitator Badge)\nWednesday  11am – 1pm\nDr Lorraine Tansey\n\n\n\nLearning Outcomes\n\nExplain the concept of student volunteer management and reflect on its application within their own setting;\nReflect on the potential impact of university-community engagement for an institution\, its staff and students;\nIdentify existing policies and consider their alignment with practice;\nAnalyse and articulate your student volunteering initiatives to the Student Volunteer Ireland website to share experiences.\n\nLearning Activities\nOnline portfolio creation75 min5 hours \n\n\n\nActivity\nPer week\nSix Weeks\n\n\nLive Webinar\n120 min\n8 hours\n\n\nTriad meeting\n60 min\n4 hours\n\n\nIndependent learning\n120 min\n8 hours\n\n\nTotal\n250 min\n25 hours\n\n\n\n Content\n\n\n\nIndicative content\n Facilitator/Guest speaker\n\n\nRPL – Setting the Scene \nSV – Conceptual Frameworks \nSV – International Volunteering \nSV – Practical Approaches \nSV – The Irish Context/Policies\nDr Lorraine Tansey; guest speakers from Student Volunteer Ireland\, Volunteer Ireland; SpunOut.ie; YSI; Localise; Gaisce; Comhlámh; STAND\n\n\nFacilitator’s Badge\nDr Lorraine Tansey \nPurpose: Develop capacity for delivery of Digital Badge by institution staff for institution staff\n\n\n\n  \n\nExpression of Interest\nFor more information\, email Dr Lorraine Tansey – Lorraine.Tansey@ul.ie. \nRegistration is now closed.
URL:https://opencourses.ie/event/enabling-student-volunteering-june-2024/
END:VEVENT
END:VCALENDAR