BEGIN:VCALENDAR
VERSION:2.0
PRODID:-//Open Courses - ECPv6.15.14//NONSGML v1.0//EN
CALSCALE:GREGORIAN
METHOD:PUBLISH
X-WR-CALNAME:Open Courses
X-ORIGINAL-URL:https://opencourses.ie
X-WR-CALDESC:Events for Open Courses
REFRESH-INTERVAL;VALUE=DURATION:PT1H
X-Robots-Tag:noindex
X-PUBLISHED-TTL:PT1H
BEGIN:VTIMEZONE
TZID:UTC
BEGIN:STANDARD
TZOFFSETFROM:+0000
TZOFFSETTO:+0000
TZNAME:UTC
DTSTART:20200101T000000
END:STANDARD
END:VTIMEZONE
BEGIN:VEVENT
DTSTART;VALUE=DATE:20220523
DTEND;VALUE=DATE:20220910
DTSTAMP:20260423T104041
CREATED:20211021T134134Z
LAST-MODIFIED:20220528T203301Z
UID:7699-1653264000-1662767999@opencourses.ie
SUMMARY:Online Course: Getting Started with Personal & Professional Digital Capacity
DESCRIPTION:23 May – 2 September (All Participants) | 5 – 9 September (To complete Facilitator training) \nThe National Forum for the Enhancement of Teaching and Learning in Higher Education are delighted to announce that the fully online Getting Started with Personal & Professional Digital Capacity Open Course will run this summer in partnership with the IUA-led Enhancing Digital Teaching and Learning (EDTL) project team. \nFollowing a successful rollout in late 2021\, the course has been reviewed and revised\, and will be offered in a highly flexible mode\, over an extended time period\, during the summer. \nWhat: This 6 unit course is designed to place you on your digital development pathway\, by supporting you to reflect on your own strengths\, needs and goals in the digital learning environment\, as well as those of your students. Using a pedagogy-first approach\, you will identify some key areas for personal development in the digital space and use structured tools for planning technology-based learning activities. \nAvailable to: Staff currently working in Higher Education or Further Education and Training in the Republic of Ireland. Places allocated on a first come first served basis. Participants should be teaching or in a role that supports student learning\, where it is possible to plan and evaluate a digital teaching enhancement. \nWhen: The course will launch on Monday 23 May\, and will support participants to engage in their own time over the summer months\, with a deadline for completion in early September. This will give all participants an opportunity to develop and practice news skills\, and to plan a digital teaching enhancement for the new academic year. \nFor those who wish to complete the facilitator training\, this will take place in the week of 5 September. \nWorkload and Format: The workload for the course is 25 learner hours\, plus 5 for the facilitator training. There will be three scheduled synchronous webinars\, which will be recorded for anybody who can’t join live. \n\n\n\nDate (week of)\n\n\n\n23 May\nWelcome webinar and introduction to Unit 1\n\n\n30 May\nWebinar introducing Units 2 & 3\n\n\n20 June\nWebinar introducing Units 4 & 5\n\n\n\n  \nThe main content of the course (Units 1-5) will be introduced within the first 5 weeks\, and participants can spread the workload across the summer to suit their own schedule and commitments\, with a deadline for completion of 5 September. \nNote: The course is designed to support reflection on your own strengths\, needs and goals in the digital learning environment\, and to identify key areas for development in the digital space. It is light in content and does not provide technical training\, but rather imparts a structure for individual exploration and development. \nFacilitators: the course will be facilitated by members of the EDTL project team and by facilitators who completed the training in the first rollout of the course. \nFor any enquiries contact: Sharon Flynn\, sharon.flynn@iua.ie \nExpression of Interest\nThis call for expressions of interest is now closed.
URL:https://opencourses.ie/event/online-course-getting-started-with-personal-professional-digital-capacity/
CATEGORIES:GSPP
ATTACH;FMTTYPE=image/png:https://opencourses.ie/wp-content/uploads/2021/02/iua_badge-1.png
END:VEVENT
BEGIN:VEVENT
DTSTART;VALUE=DATE:20211020
DTEND;VALUE=DATE:20211203
DTSTAMP:20260423T104041
CREATED:20211008T131632Z
LAST-MODIFIED:20211014T123303Z
UID:7697-1634688000-1638489599@opencourses.ie
SUMMARY:Online: PACT Commitment to Professional Development
DESCRIPTION:We are delighted to announce that Dundalk Institute of Technology and Dublin City University are teaming up in partnership with the National Forum for the Enhancement of Teaching and Learning in Higher Education to facilitate the Digital Badge for PACT in a fully online format from 20 October 2021 for six weeks. \nThis open course is designed to place you on a professional development (PD) pathway\, and is setting you up for completing a PD portfolio for the future. Professional development is something you will do every day of your life without even thinking about it; however\, being conscious of the development you undertake will allow you to record this and develop in a systematic and authentic way. This open course recognises the importance of placing PD into a demanding academic schedule\, and considers strategies for both how to embark on PD and self-manage the process. It is designed to encourage you to be proactive in order to begin the process of developing your current role\, achieving greater satisfaction and effectiveness in your current work or taking a new career direction. \nIf you would like to become a facilitator for this course\, to run it in your own institution\, a further commitment of five learner hours will be required\, in addition to attendance at two extra webinars \nAbout this Badge\nThe National Professional Development Framework has been designed to guide staff who teach in higher education to plan\, develop and engage in professional development activities. The aims of the PACT badge are to familiarise you with the PD framework\, to encourage you to use the PD framework to develop effective PD strategies\, and to develop your PD learning community. We encourage you to be proactive in developing your professional role and a Professional Development Portfolio (PD Portfolio) that documents your PD journey. \nParticipants on this course will:\n\nReflect on what is involved in making a commitment to your own Professional Development\nExplore and demonstrate familiarity with the national Professional Development Framework\nBe informed by others who have already used the PD Framework and Identify key actions from these conversations for your own PD practice\nIdentify ‘next steps’ – moving from reflecting on PD to undertaking it\n\nCourse Schedule\nThe open course involves approximately 25 hours over the 6 week period\, beginning 20 October 2021\, with an optional 5 hour add-on over a 2 week period for those interested in becoming future facilitators of the open course themselves. \nThis is a facilitator-led course and weekly live sessions will be held each week to guide you through the course and learning material. All sessions will be recorded for those who are unable to attend. The facilitators for this course are Michelle Cowley-Cunningham (DkIT) and Edel Gallagher (DCU). \n\n\nExpression of Interest\nSpaces on this iteration are limited and cannot be guaranteed. \n\n\n\n\nExpression of interest for this Open Course is now closed.
URL:https://opencourses.ie/event/online-pact-commitment-to-professional-development/
CATEGORIES:PACT
END:VEVENT
BEGIN:VEVENT
DTSTART;VALUE=DATE:20211011
DTEND;VALUE=DATE:20211116
DTSTAMP:20260423T104041
CREATED:20210927T111654Z
LAST-MODIFIED:20210929T154814Z
UID:7695-1633910400-1637020799@opencourses.ie
SUMMARY:Online Course: Academic Writing Practice – Participant & Facilitator Training
DESCRIPTION:In this Open Course\, participants will explore academic writing\, specifically writing processes for themselves and their students\, and the integration of writing into teaching pedagogies across the disciplines. \nTo complete the course and gain the nationally-recognised digital badge\, you will need to commit to a total of 25 learner hours\, spread over six weeks. The course will start on Monday 11th October 2021 with an Introduction Webinar. Participants who have successfully completed the AWP open course digital badge can opt to complete the AWP Facilitator’s digital badge. \nYou will be given activities to complete during the week. Some activities will be completed individually but many will require online collaboration with other participants. You will participate in peer triad groups within which you will support each other on your journey through the Academic Writing Practice Open Course. \nWhen: This course runs from 11 October – 15 November 2021. Register your interest for the course at the end of this page. \nCourse Schedule\n\n\n\nTopics\nDate (week commencing)\nOverview\n\n\nTopic 1\nMonday 11th October\nIntroducing Course \nLive Webinar on Monday 11 October\, 4 pm\, Individual Activity and Triad meeting\n\n\nTopic 2\nMonday 18th October\nLiteracy Narrative & Processes \nExplore Tutorial\, Individual Activity and Triad meeting\n\n\nTopic 3\nMonday 25th October\nWriting to Learn \nExplore Tutorial\, Individual Activity and Triad meeting\n\n\nTopic 4\nMonday 1st November\nWriting in the Disciplines \nExplore Tutorial and Individual Activity\n\n\nTopic 5\nMonday 8th November\nRepurposing and Planning \nLive Webinar on Monday 8 October\, 4 pm\, Individual Activity and Triad meeting\n\n\nTopic 6\nMonday 15th November\nCourse Completion \nIndividual Activity and Triad meeting\n\n\n\n*The AWP Facilitators course will continue for two weeks following the above schedule. \nThis fully online course with will be delivered in partnership with University of Limerick\, Maynooth University\, Letterkenny Institute of Technology\, Hibernia College and TU Dublin. The Academic Writing Practice facilitator team are Ide O Sullivan (UL)\, Alison Farrell (MU)\, Adeline Cooney (MU)\, Deirdre McClay (LyIT)\, Irene O’Dowd (Hibernia)\, Maria-Jose Gonzalez (TU Dublin) and Tara Giddens (UL). \nExpression of Interest\nExpression of interest for this Open Course is now closed.
URL:https://opencourses.ie/event/online-course-academic-writing-practice-participant-facilitator-training/
CATEGORIES:AWP
END:VEVENT
BEGIN:VEVENT
DTSTART;VALUE=DATE:20211004
DTEND;VALUE=DATE:20211116
DTSTAMP:20260423T104041
CREATED:20210902T150101Z
LAST-MODIFIED:20210902T150815Z
UID:7686-1633305600-1637020799@opencourses.ie
SUMMARY:Online: The L2L Joint Digital Badge – PACT Commitment to Professional Development for Librarians
DESCRIPTION:To complete the course and gain the nationally-recognised joint digital badge\, you will need to commit to a total of 25 learner hours\, spread over six weeks. The course will start with a lunchtime webinar at 12.30-1.30 on Monday 4th October 2021. During this webinar you will meet the facilitators who will outline how the course will be supported over the following six weeks. You will be given activities to complete during the week and every Monday between 12.30 and 13:30 a webinar will take place to reflect on the week’s activities and introduce the topics for the following week. \nSome activities will be completed individually but many will require online collaboration with other participants. You will form peer groups to support each other on your journey to achieve the L2L Joint PACT badge. \nThere is no need to worry if you have never used the online tools before\, facilitators will be on hand with tips and support throughout the course. \nThe final webinar will be held on Monday 8th November\, after which you will complete the course\, in collaboration with your peer group\, and achieve the nationally-recognised joint digital badge. \nHow can I become a facilitator? \nIf you would like to become a facilitator for this course\, to run it in your own institution or library\, a further commitment of five learner hours will be required\, in addition to attendance at two extra webinars\, on Mondays [Dates tbc] at 12.30 to 1.30pm. \nHow do I sign up? \nThis course is fully booked at present\, however we  are operating a waiting list here \n\n\n\n  \nWebinars \n \n  \nDate  \n(12.30-1.30pm)\n  \nOverview\n\n\n  \nIntroduction Webinar\n  \nMonday 27th September\n  \nIntroductions and preparations \n \n\n\nWeek 1\nMonday 4th October\nReflection on previous PD and current digital skills \n \n\n\nWeek 2\nMonday 11th October\nTriads & ePortfolios \n \n\n\nWeek 3\nMonday 18th October\nUnderstanding PD Frameworks: National Forum & PK&SB \nReflective practice for librarians \n \n\n\nWeek 4\nMonday 25th October\nGetting to grips with the NF PD Framework. Cycle of evidence based reflection & learning types \n \n\n\nWeek 5\nMonday 1st November\nTaking stock of the frameworks & Community of Practice \n \n\n\nWeek 6\nMonday 8th November\nCollaborating with your triad/ ePortfolio & \nClaiming your badge \n \n\n\nFacilitator Webinar\nMonday 15th November\n‘Paying it forward’ Obtaining a PACT Facilitator’s Badge \n 
URL:https://opencourses.ie/event/the-l2l-joint-digital-badge-pact-commitment-to-professional-development-for-librarians/
CATEGORIES:PACTL2L
END:VEVENT
END:VCALENDAR